BEGIN:VCALENDAR
VERSION:2.0
PRODID:-//Інститут Серця - ECPv6.11.0.1//NONSGML v1.0//EN
CALSCALE:GREGORIAN
METHOD:PUBLISH
X-WR-CALNAME:Інститут Серця
X-ORIGINAL-URL:https://heart.kyiv.ua
X-WR-CALDESC:Події за Інститут Серця
REFRESH-INTERVAL;VALUE=DURATION:PT1H
X-Robots-Tag:noindex
X-PUBLISHED-TTL:PT1H
BEGIN:VTIMEZONE
TZID:Europe/Helsinki
BEGIN:DAYLIGHT
TZOFFSETFROM:+0200
TZOFFSETTO:+0300
TZNAME:EEST
DTSTART:20220327T010000
END:DAYLIGHT
BEGIN:STANDARD
TZOFFSETFROM:+0300
TZOFFSETTO:+0200
TZNAME:EET
DTSTART:20221030T010000
END:STANDARD
END:VTIMEZONE
BEGIN:VEVENT
DTSTART;VALUE=DATE:20220110
DTEND;VALUE=DATE:20220412
DTSTAMP:20260422T214408
CREATED:20211230T213135Z
LAST-MODIFIED:20220223T113220Z
UID:39000-1641772800-1649721599@heart.kyiv.ua
SUMMARY:СП "Інтервенційна кардіологія"
DESCRIPTION:Вельмишановні колеги\, щиро запрошуємо!\n02660\, м. Київ\, Братиславська\, 5А\,\nтел.: (050) 5017028\,\nтел./факс: (044) 2915525\nе-mail: kafedra.cardio@gmail.com
URL:https://heart.kyiv.ua/event/sp-intervenczijna-kardiologiya-3/
LOCATION:Інститут серця МОЗ України\, вул.Братиславська\, 5а\, Київ\, 02660\, Украина
CATEGORIES:Навчання,Анонси
ATTACH;FMTTYPE=image/jpeg:https://heart.kyiv.ua/wp-content/uploads/2021/12/10jan22.jpg
END:VEVENT
END:VCALENDAR