BEGIN:VCALENDAR
VERSION:2.0
PRODID:-//Інститут Серця - ECPv6.11.0.1//NONSGML v1.0//EN
CALSCALE:GREGORIAN
METHOD:PUBLISH
X-WR-CALNAME:Інститут Серця
X-ORIGINAL-URL:https://heart.kyiv.ua
X-WR-CALDESC:Події за Інститут Серця
REFRESH-INTERVAL;VALUE=DURATION:PT1H
X-Robots-Tag:noindex
X-PUBLISHED-TTL:PT1H
BEGIN:VTIMEZONE
TZID:Europe/Helsinki
BEGIN:DAYLIGHT
TZOFFSETFROM:+0200
TZOFFSETTO:+0300
TZNAME:EEST
DTSTART:20220327T010000
END:DAYLIGHT
BEGIN:STANDARD
TZOFFSETFROM:+0300
TZOFFSETTO:+0200
TZNAME:EET
DTSTART:20221030T010000
END:STANDARD
END:VTIMEZONE
BEGIN:VEVENT
DTSTART;VALUE=DATE:20220317
DTEND;VALUE=DATE:20220319
DTSTAMP:20260422T214636
CREATED:20220223T111827Z
LAST-MODIFIED:20220223T112147Z
UID:40495-1647475200-1647647999@heart.kyiv.ua
SUMMARY:Х Науково-практична конференції «Функціональна діагностика серцево-судинних хвороб»
DESCRIPTION:Усі учасники конференції\, які зареєструються до 16 березня 2022 року\, отримають на свої електронні адреси інформацію про доступ для участі в конференції.\nПосилання для реєстрації:  https://bit.ly/3soVEWs\nПрограма\n  \n  \n 
URL:https://heart.kyiv.ua/event/h-naukovo-praktychna-konferencziyi-funkczionalna-diagnostyka-serczevo-sudynnyh-hvorob/
LOCATION:он-лайн конференція
CATEGORIES:Конференції,Анонси
END:VEVENT
END:VCALENDAR